BEGIN:VCALENDAR
VERSION:2.0
PRODID:SchoolNow
CALSCALE:GREGORIAN
BEGIN:VEVENT
UID:62144048-d2c4-11ef-ac5b-0a58a9feac02
DTSTAMP:20251216T214612Z
SUMMARY:Trip Grade 7
URL;VALUE=URI:https://www.northhamptonschool.nh.gov/calendar/7316193/trip-g
 rade-7
DTSTART;VALUE=DATE:20250909
DTEND;VALUE=DATE:20250912
END:VEVENT
END:VCALENDAR
