BEGIN:VCALENDAR
VERSION:2.0
PRODID:SchoolNow
CALSCALE:GREGORIAN
BEGIN:VEVENT
UID:48096684-e8ad-11ef-9536-0a58a9feac02
DTSTAMP:20251216T214612Z
SUMMARY:Fall Field Trip Grade 6
URL;VALUE=URI:https://www.northhamptonschool.nh.gov/calendar/7453194/fall-f
 ield-trip-grade-6
DTSTART:20250908T150000Z
DTEND:20250910T170000Z
END:VEVENT
END:VCALENDAR
