BEGIN:VCALENDAR
VERSION:2.0
PRODID:SchoolNow
CALSCALE:GREGORIAN
BEGIN:VEVENT
UID:9ab28162-1edc-11f0-8a15-0a58a9feac02
DTSTAMP:20251216T214612Z
SUMMARY:Ragnar Reach The Beach
URL;VALUE=URI:https://www.northhamptonschool.nh.gov/calendar/7976356/ragnar
 -reach-the-beach
DTSTART:20250913T130000Z
DTEND:20250913T233000Z
END:VEVENT
END:VCALENDAR
