BEGIN:VCALENDAR
VERSION:2.0
PRODID:SchoolNow
CALSCALE:GREGORIAN
BEGIN:VEVENT
UID:524ebe3a-3828-11f0-ba41-0affd8bd20f9
DTSTAMP:20251216T214612Z
SUMMARY:XC Meet @ Vernon Farm
URL;VALUE=URI:https://www.northhamptonschool.nh.gov/calendar/8188255/xc-mee
 t-vernon-farm
DTSTART:20250929T190000Z
DTEND:20250929T220000Z
END:VEVENT
END:VCALENDAR
