BEGIN:VCALENDAR
VERSION:2.0
PRODID:SchoolNow
CALSCALE:GREGORIAN
BEGIN:VEVENT
UID:524ec1fa-3828-11f0-a7e0-0affd8bd20f9
DTSTAMP:20251216T214612Z
SUMMARY:XC Meet Home
URL;VALUE=URI:https://www.northhamptonschool.nh.gov/calendar/8188256/xc-mee
 t-home
DTSTART:20250915T190000Z
DTEND:20250915T220000Z
END:VEVENT
END:VCALENDAR
