BEGIN:VCALENDAR
VERSION:2.0
PRODID:SchoolNow
CALSCALE:GREGORIAN
BEGIN:VEVENT
UID:524ec330-3828-11f0-a3b3-0affd8bd20f9
DTSTAMP:20251216T214612Z
SUMMARY:XC Meet @ WHS
URL;VALUE=URI:https://www.northhamptonschool.nh.gov/calendar/8188257/xc-mee
 t-whs
DTSTART:20251006T190000Z
DTEND:20251006T220000Z
END:VEVENT
END:VCALENDAR
