BEGIN:VCALENDAR
VERSION:2.0
PRODID:SchoolNow
CALSCALE:GREGORIAN
BEGIN:VEVENT
UID:524ec43e-3828-11f0-9655-0affd8bd20f9
DTSTAMP:20251216T214612Z
SUMMARY:Boys Soccer Game
URL;VALUE=URI:https://www.northhamptonschool.nh.gov/calendar/8188258/boys-s
 occer-game
DTSTART:20250916T190000Z
DTEND:20250916T220000Z
END:VEVENT
END:VCALENDAR
