BEGIN:VCALENDAR
VERSION:2.0
PRODID:SchoolNow
CALSCALE:GREGORIAN
BEGIN:VEVENT
UID:60e46974-4ae1-11f0-aa15-026e9a9e9493
DTSTAMP:20251216T214612Z
SUMMARY:Boys Soccer Home
URL;VALUE=URI:https://www.northhamptonschool.nh.gov/calendar/8310260/boys-s
 occer-home
DTSTART:20251007T190000Z
DTEND:20251007T220000Z
END:VEVENT
END:VCALENDAR
