BEGIN:VCALENDAR
VERSION:2.0
PRODID:SchoolNow
CALSCALE:GREGORIAN
BEGIN:VEVENT
UID:60e46db6-4ae1-11f0-8feb-026e9a9e9493
DTSTAMP:20251216T214612Z
SUMMARY:Boys Soccer@SMS
URL;VALUE=URI:https://www.northhamptonschool.nh.gov/calendar/8310262/boys-s
 occer-sms
DTSTART:20251014T190000Z
DTEND:20251014T220000Z
END:VEVENT
END:VCALENDAR
