BEGIN:VCALENDAR
VERSION:2.0
PRODID:SchoolNow
CALSCALE:GREGORIAN
BEGIN:VEVENT
UID:60e46ff0-4ae1-11f0-9ef8-026e9a9e9493
DTSTAMP:20251216T214612Z
SUMMARY:Girls Soccer @Rye
URL;VALUE=URI:https://www.northhamptonschool.nh.gov/calendar/8310264/girls-
 soccer-rye
DTSTART:20250916T190000Z
DTEND:20250916T220000Z
END:VEVENT
END:VCALENDAR
