BEGIN:VCALENDAR
VERSION:2.0
PRODID:SchoolNow
CALSCALE:GREGORIAN
BEGIN:VEVENT
UID:60e471f8-4ae1-11f0-bbe6-026e9a9e9493
DTSTAMP:20251216T214612Z
SUMMARY:Girls Soccer @SH
URL;VALUE=URI:https://www.northhamptonschool.nh.gov/calendar/8310266/girls-
 soccer-sh
DTSTART:20250923T190000Z
DTEND:20250923T220000Z
END:VEVENT
END:VCALENDAR
