BEGIN:VCALENDAR
VERSION:2.0
PRODID:SchoolNow
CALSCALE:GREGORIAN
BEGIN:VEVENT
UID:60e472e8-4ae1-11f0-aa4c-026e9a9e9493
DTSTAMP:20251216T214612Z
SUMMARY:Girls Soccer Home
URL;VALUE=URI:https://www.northhamptonschool.nh.gov/calendar/8310267/girls-
 soccer-home
DTSTART:20250925T190000Z
DTEND:20250925T220000Z
END:VEVENT
END:VCALENDAR
