BEGIN:VCALENDAR
VERSION:2.0
PRODID:SchoolNow
CALSCALE:GREGORIAN
BEGIN:VEVENT
UID:60e474be-4ae1-11f0-9a5b-026e9a9e9493
DTSTAMP:20251216T214612Z
SUMMARY:Girls Soccer@GCS
URL;VALUE=URI:https://www.northhamptonschool.nh.gov/calendar/8310269/girls-
 soccer-gcs
DTSTART:20251009T190000Z
DTEND:20251009T220000Z
END:VEVENT
END:VCALENDAR
