BEGIN:VCALENDAR
VERSION:2.0
PRODID:SchoolNow
CALSCALE:GREGORIAN
BEGIN:VEVENT
UID:60e47842-4ae1-11f0-a1a8-026e9a9e9493
DTSTAMP:20251216T214612Z
SUMMARY:Volleyball @Epping
URL;VALUE=URI:https://www.northhamptonschool.nh.gov/calendar/8310273/volley
 ball-epping
DTSTART:20250923T200000Z
DTEND:20250923T220000Z
END:VEVENT
END:VCALENDAR
