BEGIN:VCALENDAR
VERSION:2.0
PRODID:SchoolNow
CALSCALE:GREGORIAN
BEGIN:VEVENT
UID:60e47ab8-4ae1-11f0-bb3e-026e9a9e9493
DTSTAMP:20251216T214612Z
SUMMARY:Volleyball Home
URL;VALUE=URI:https://www.northhamptonschool.nh.gov/calendar/8310275/volley
 ball-home
DTSTART:20250930T190000Z
DTEND:20250930T220000Z
END:VEVENT
END:VCALENDAR
