BEGIN:VCALENDAR
VERSION:2.0
PRODID:SchoolNow
CALSCALE:GREGORIAN
BEGIN:VEVENT
UID:60e47c02-4ae1-11f0-bc90-026e9a9e9493
DTSTAMP:20251216T214612Z
SUMMARY:Volleyball Home
URL;VALUE=URI:https://www.northhamptonschool.nh.gov/calendar/8310276/volley
 ball-home
DTSTART:20251002T190000Z
DTEND:20251002T220000Z
END:VEVENT
END:VCALENDAR
