BEGIN:VCALENDAR
VERSION:2.0
PRODID:SchoolNow
CALSCALE:GREGORIAN
BEGIN:VEVENT
UID:60e47d10-4ae1-11f0-8011-026e9a9e9493
DTSTAMP:20251216T214612Z
SUMMARY:Volleyball @Epping
URL;VALUE=URI:https://www.northhamptonschool.nh.gov/calendar/8310277/volley
 ball-epping
DTSTART:20251009T190000Z
DTEND:20251009T220000Z
END:VEVENT
END:VCALENDAR
