BEGIN:VCALENDAR
VERSION:2.0
PRODID:SchoolNow
CALSCALE:GREGORIAN
BEGIN:VEVENT
UID:60e47ee6-4ae1-11f0-954b-026e9a9e9493
DTSTAMP:20251216T214612Z
SUMMARY:Volleyball @StPats
URL;VALUE=URI:https://www.northhamptonschool.nh.gov/calendar/8310279/volley
 ball-stpats
DTSTART:20251016T190000Z
DTEND:20251016T220000Z
END:VEVENT
END:VCALENDAR
