BEGIN:VCALENDAR
VERSION:2.0
PRODID:SchoolNow
CALSCALE:GREGORIAN
BEGIN:VEVENT
UID:598f11f2-4bad-11f0-934b-0a58a9feac02
DTSTAMP:20251216T214612Z
SUMMARY:Curriculum Night
URL;VALUE=URI:https://www.northhamptonschool.nh.gov/calendar/8318878/curric
 ulum-night
DTSTART:20250925T220000Z
DTEND:20250925T230000Z
END:VEVENT
END:VCALENDAR
