BEGIN:VCALENDAR
VERSION:2.0
PRODID:SchoolNow
CALSCALE:GREGORIAN
BEGIN:VEVENT
UID:51d896ce-4c46-11f0-be9a-0a58a9feac02
DTSTAMP:20251216T214612Z
SUMMARY:Back To School Open House/PAL BBQ
URL;VALUE=URI:https://www.northhamptonschool.nh.gov/calendar/8323331/back-t
 o-school-open-house-pal-bbq
DTSTART:20250825T203000Z
DTEND:20250825T220000Z
END:VEVENT
END:VCALENDAR
