BEGIN:VCALENDAR
VERSION:2.0
PRODID:SchoolNow
CALSCALE:GREGORIAN
BEGIN:VEVENT
UID:51d89a48-4c46-11f0-bdb1-0a58a9feac02
DTSTAMP:20251216T214612Z
SUMMARY:Labor Day Weekend School Closed
URL;VALUE=URI:https://www.northhamptonschool.nh.gov/calendar/8323332/labor-
 day-weekend-school-closed
DTSTART:20250829T113000Z
DTEND:20250901T200000Z
END:VEVENT
END:VCALENDAR
