BEGIN:VCALENDAR
VERSION:2.0
PRODID:SchoolNow
CALSCALE:GREGORIAN
BEGIN:VEVENT
UID:51d89caa-4c46-11f0-a778-0a58a9feac02
DTSTAMP:20251216T214612Z
SUMMARY:Early Release
URL;VALUE=URI:https://www.northhamptonschool.nh.gov/calendar/8323334/early-
 release
DTSTART;VALUE=DATE:20251010
DTEND;VALUE=DATE:20251011
END:VEVENT
END:VCALENDAR
