BEGIN:VCALENDAR
VERSION:2.0
PRODID:SchoolNow
CALSCALE:GREGORIAN
BEGIN:VEVENT
UID:51d89db8-4c46-11f0-a37c-0a58a9feac02
DTSTAMP:20251216T214612Z
SUMMARY:No School Columbus Day
URL;VALUE=URI:https://www.northhamptonschool.nh.gov/calendar/8323335/no-sch
 ool-columbus-day
DTSTART;VALUE=DATE:20251013
DTEND;VALUE=DATE:20251014
END:VEVENT
END:VCALENDAR
