BEGIN:VCALENDAR
VERSION:2.0
PRODID:SchoolNow
CALSCALE:GREGORIAN
BEGIN:VEVENT
UID:51d89eb2-4c46-11f0-9c45-0a58a9feac02
DTSTAMP:20251216T214612Z
SUMMARY:Veterans Day No School
URL;VALUE=URI:https://www.northhamptonschool.nh.gov/calendar/8323336/vetera
 ns-day-no-school
DTSTART;VALUE=DATE:20251111
DTEND;VALUE=DATE:20251112
END:VEVENT
END:VCALENDAR
