BEGIN:VCALENDAR
VERSION:2.0
PRODID:SchoolNow
CALSCALE:GREGORIAN
BEGIN:VEVENT
UID:51d89f98-4c46-11f0-972e-0a58a9feac02
DTSTAMP:20251216T214612Z
SUMMARY:No School
URL;VALUE=URI:https://www.northhamptonschool.nh.gov/calendar/8323337/no-sch
 ool
DTSTART;VALUE=DATE:20251121
DTEND;VALUE=DATE:20251122
END:VEVENT
END:VCALENDAR
