BEGIN:VCALENDAR
VERSION:2.0
PRODID:SchoolNow
CALSCALE:GREGORIAN
BEGIN:VEVENT
UID:51d8a088-4c46-11f0-bc9e-0a58a9feac02
DTSTAMP:20251216T214612Z
SUMMARY:Thanksgiving Holiday
URL;VALUE=URI:https://www.northhamptonschool.nh.gov/calendar/8323338/thanks
 giving-holiday
DTSTART;VALUE=DATE:20251126
DTEND;VALUE=DATE:20251129
END:VEVENT
END:VCALENDAR
