BEGIN:VCALENDAR
VERSION:2.0
PRODID:SchoolNow
CALSCALE:GREGORIAN
BEGIN:VEVENT
UID:51d8a164-4c46-11f0-baa0-0a58a9feac02
DTSTAMP:20251216T214612Z
SUMMARY:Early Release at noon Holiday Vacation
URL;VALUE=URI:https://www.northhamptonschool.nh.gov/calendar/8323339/early-
 release-at-noon-holiday-vacation
DTSTART;VALUE=DATE:20251223
DTEND;VALUE=DATE:20251224
END:VEVENT
END:VCALENDAR
