BEGIN:VCALENDAR
VERSION:2.0
PRODID:SchoolNow
CALSCALE:GREGORIAN
BEGIN:VEVENT
UID:51d8a24a-4c46-11f0-b440-0a58a9feac02
DTSTAMP:20251216T214612Z
SUMMARY:First Day of School 2026
URL;VALUE=URI:https://www.northhamptonschool.nh.gov/calendar/8323340/first-
 day-of-school-2026
DTSTART;VALUE=DATE:20260105
DTEND;VALUE=DATE:20260106
END:VEVENT
END:VCALENDAR
