BEGIN:VCALENDAR
VERSION:2.0
PRODID:SchoolNow
CALSCALE:GREGORIAN
BEGIN:VEVENT
UID:51d8a416-4c46-11f0-8781-0a58a9feac02
DTSTAMP:20251216T214612Z
SUMMARY:Martin L King Day No School
URL;VALUE=URI:https://www.northhamptonschool.nh.gov/calendar/8323342/martin
 -l-king-day-no-school
DTSTART;VALUE=DATE:20260119
DTEND;VALUE=DATE:20260120
END:VEVENT
END:VCALENDAR
