BEGIN:VCALENDAR
VERSION:2.0
PRODID:SchoolNow
CALSCALE:GREGORIAN
BEGIN:VEVENT
UID:51d8a4fc-4c46-11f0-84d6-0a58a9feac02
DTSTAMP:20251216T214612Z
SUMMARY:Winter Break
URL;VALUE=URI:https://www.northhamptonschool.nh.gov/calendar/8323343/winter
 -break
DTSTART;VALUE=DATE:20260223
DTEND;VALUE=DATE:20260302
END:VEVENT
END:VCALENDAR
