BEGIN:VCALENDAR
VERSION:2.0
PRODID:SchoolNow
CALSCALE:GREGORIAN
BEGIN:VEVENT
UID:51d8a5d8-4c46-11f0-8601-0a58a9feac02
DTSTAMP:20251216T214612Z
SUMMARY:Election Day No School
URL;VALUE=URI:https://www.northhamptonschool.nh.gov/calendar/8323344/electi
 on-day-no-school
DTSTART;VALUE=DATE:20260310
DTEND;VALUE=DATE:20260311
END:VEVENT
END:VCALENDAR
