BEGIN:VCALENDAR
VERSION:2.0
PRODID:SchoolNow
CALSCALE:GREGORIAN
BEGIN:VEVENT
UID:51d8a6b4-4c46-11f0-8907-0a58a9feac02
DTSTAMP:20251216T214612Z
SUMMARY:No School
URL;VALUE=URI:https://www.northhamptonschool.nh.gov/calendar/8323345/no-sch
 ool
DTSTART;VALUE=DATE:20260401
DTEND;VALUE=DATE:20260402
END:VEVENT
END:VCALENDAR
