BEGIN:VCALENDAR
VERSION:2.0
PRODID:SchoolNow
CALSCALE:GREGORIAN
BEGIN:VEVENT
UID:51d8a786-4c46-11f0-832c-0a58a9feac02
DTSTAMP:20251216T214612Z
SUMMARY:Spring Break
URL;VALUE=URI:https://www.northhamptonschool.nh.gov/calendar/8323346/spring
 -break
DTSTART;VALUE=DATE:20260427
DTEND;VALUE=DATE:20260504
END:VEVENT
END:VCALENDAR
