BEGIN:VCALENDAR
VERSION:2.0
PRODID:SchoolNow
CALSCALE:GREGORIAN
BEGIN:VEVENT
UID:51d8a862-4c46-11f0-9a6f-0a58a9feac02
DTSTAMP:20251216T214612Z
SUMMARY:Early Release
URL;VALUE=URI:https://www.northhamptonschool.nh.gov/calendar/8323347/early-
 release
DTSTART;VALUE=DATE:20260513
DTEND;VALUE=DATE:20260514
END:VEVENT
END:VCALENDAR
