BEGIN:VCALENDAR
VERSION:2.0
PRODID:SchoolNow
CALSCALE:GREGORIAN
BEGIN:VEVENT
UID:51d8a93e-4c46-11f0-b75f-0a58a9feac02
DTSTAMP:20251216T214612Z
SUMMARY:Tentative last day of school
URL;VALUE=URI:https://www.northhamptonschool.nh.gov/calendar/8323348/tentat
 ive-last-day-of-school
DTSTART;VALUE=DATE:20260612
DTEND;VALUE=DATE:20260613
END:VEVENT
END:VCALENDAR
