BEGIN:VCALENDAR
VERSION:2.0
PRODID:SchoolNow
CALSCALE:GREGORIAN
BEGIN:VEVENT
UID:51d8aa1a-4c46-11f0-8359-0a58a9feac02
DTSTAMP:20251216T214612Z
SUMMARY:Teacher PD Day
URL;VALUE=URI:https://www.northhamptonschool.nh.gov/calendar/8323349/teache
 r-pd-day
DTSTART;VALUE=DATE:20260615
DTEND;VALUE=DATE:20260616
END:VEVENT
END:VCALENDAR
