BEGIN:VCALENDAR
VERSION:2.0
PRODID:SchoolNow
CALSCALE:GREGORIAN
BEGIN:VEVENT
UID:51d8aaec-4c46-11f0-9d5a-0a58a9feac02
DTSTAMP:20251216T214612Z
SUMMARY:Junteeneth School Closed
URL;VALUE=URI:https://www.northhamptonschool.nh.gov/calendar/8323350/juntee
 neth-school-closed
DTSTART;VALUE=DATE:20260619
DTEND;VALUE=DATE:20260620
END:VEVENT
END:VCALENDAR
