BEGIN:VCALENDAR
VERSION:2.0
PRODID:SchoolNow
CALSCALE:GREGORIAN
BEGIN:VEVENT
UID:5087cad2-4c79-11f0-97df-0a58a9feac02
DTSTAMP:20251216T214612Z
SUMMARY:PAL Fall Fun Fair
URL;VALUE=URI:https://www.northhamptonschool.nh.gov/calendar/8324474/pal-fa
 ll-fun-fair
DTSTART:20260927T170000Z
DTEND:20260927T200000Z
END:VEVENT
END:VCALENDAR
