BEGIN:VCALENDAR
VERSION:2.0
PRODID:SchoolNow
CALSCALE:GREGORIAN
BEGIN:VEVENT
UID:5087cf82-4c79-11f0-a7ce-0a58a9feac02
DTSTAMP:20251216T214612Z
SUMMARY:Appt for K testing
URL;VALUE=URI:https://www.northhamptonschool.nh.gov/calendar/8324478/appt-f
 or-k-testing
DTSTART;VALUE=DATE:20250826
DTEND;VALUE=DATE:20250828
END:VEVENT
END:VCALENDAR
