BEGIN:VCALENDAR
VERSION:2.0
PRODID:SchoolNow
CALSCALE:GREGORIAN
BEGIN:VEVENT
UID:5087d086-4c79-11f0-badb-0a58a9feac02
DTSTAMP:20251216T214612Z
SUMMARY:K only Half Day
URL;VALUE=URI:https://www.northhamptonschool.nh.gov/calendar/8324480/k-only
 -half-day
DTSTART;VALUE=DATE:20250828
DTEND;VALUE=DATE:20250829
END:VEVENT
END:VCALENDAR
