BEGIN:VCALENDAR
VERSION:2.0
PRODID:SchoolNow
CALSCALE:GREGORIAN
BEGIN:VEVENT
UID:5087d176-4c79-11f0-a97f-0a58a9feac02
DTSTAMP:20251216T214612Z
SUMMARY:K first full day at school
URL;VALUE=URI:https://www.northhamptonschool.nh.gov/calendar/8324482/k-firs
 t-full-day-at-school
DTSTART;VALUE=DATE:20250902
DTEND;VALUE=DATE:20250903
END:VEVENT
END:VCALENDAR
