BEGIN:VCALENDAR
VERSION:2.0
PRODID:SchoolNow
CALSCALE:GREGORIAN
BEGIN:VEVENT
UID:ce353a3c-56a1-11f0-93a3-0a58a9feac02
DTSTAMP:20251216T214612Z
SUMMARY:Deliberative Session
URL;VALUE=URI:https://www.northhamptonschool.nh.gov/calendar/8374043/delibe
 rative-session
DTSTART:20260204T000000Z
DTEND:20260204T010000Z
END:VEVENT
END:VCALENDAR
