BEGIN:VCALENDAR
VERSION:2.0
PRODID:SchoolNow
CALSCALE:GREGORIAN
BEGIN:VEVENT
UID:bc7050ae-5839-11f0-8cc6-0e22232da143
DTSTAMP:20251216T214612Z
SUMMARY:PAL Meeting Library
URL;VALUE=URI:https://www.northhamptonschool.nh.gov/calendar/8381114/pal-me
 eting-library
DTSTART:20250917T220000Z
DTEND:20250917T230000Z
END:VEVENT
END:VCALENDAR
