BEGIN:VCALENDAR
VERSION:2.0
PRODID:SchoolNow
CALSCALE:GREGORIAN
BEGIN:VEVENT
UID:bc7057de-5839-11f0-830e-0e22232da143
DTSTAMP:20251216T214612Z
SUMMARY:PAL Meeting in the library
URL;VALUE=URI:https://www.northhamptonschool.nh.gov/calendar/8381118/pal-me
 eting-in-the-library
DTSTART:20260218T230000Z
DTEND:20260219T000000Z
END:VEVENT
END:VCALENDAR
