BEGIN:VCALENDAR
VERSION:2.0
PRODID:SchoolNow
CALSCALE:GREGORIAN
BEGIN:VEVENT
UID:bc7058c4-5839-11f0-9f7e-0e22232da143
DTSTAMP:20251216T214612Z
SUMMARY:PAL Meeting  in the library
URL;VALUE=URI:https://www.northhamptonschool.nh.gov/calendar/8381119/pal-me
 eting-in-the-library
DTSTART:20260318T220000Z
DTEND:20260318T230000Z
END:VEVENT
END:VCALENDAR
