BEGIN:VCALENDAR
VERSION:2.0
PRODID:SchoolNow
CALSCALE:GREGORIAN
BEGIN:VEVENT
UID:bc705a7c-5839-11f0-8b23-0e22232da143
DTSTAMP:20251216T214612Z
SUMMARY:PAL Meeting in the library
URL;VALUE=URI:https://www.northhamptonschool.nh.gov/calendar/8381121/pal-me
 eting-in-the-library
DTSTART:20260520T220000Z
DTEND:20260520T230000Z
END:VEVENT
END:VCALENDAR
