BEGIN:VCALENDAR
VERSION:2.0
PRODID:SchoolNow
CALSCALE:GREGORIAN
BEGIN:VEVENT
UID:96c18ada-5b36-11f0-ab7c-0ede2149fe27
DTSTAMP:20251216T214612Z
SUMMARY:Geskus Photo Day
URL;VALUE=URI:https://www.northhamptonschool.nh.gov/calendar/8392170/geskus
 -photo-day
DTSTART:20250929T114500Z
DTEND:20250929T150000Z
END:VEVENT
END:VCALENDAR
