BEGIN:VCALENDAR
VERSION:2.0
PRODID:SchoolNow
CALSCALE:GREGORIAN
BEGIN:VEVENT
UID:96c1a9a2-5b36-11f0-b590-0ede2149fe27
DTSTAMP:20251216T214612Z
SUMMARY:Re Take Photo Day Geskus
URL;VALUE=URI:https://www.northhamptonschool.nh.gov/calendar/8392171/re-tak
 e-photo-day-geskus
DTSTART:20251117T124500Z
DTEND:20251117T150000Z
END:VEVENT
END:VCALENDAR
