BEGIN:VCALENDAR
VERSION:2.0
PRODID:SchoolNow
CALSCALE:GREGORIAN
BEGIN:VEVENT
UID:70fb1af2-5dcd-11f0-91a3-0a58a9feac02
DTSTAMP:20251216T214612Z
SUMMARY:K and Grade 1 Field Trip
URL;VALUE=URI:https://www.northhamptonschool.nh.gov/calendar/8402940/k-and-
 grade-1-field-trip
DTSTART:20260414T124500Z
DTEND:20260414T153000Z
END:VEVENT
END:VCALENDAR
