BEGIN:VCALENDAR
VERSION:2.0
PRODID:SchoolNow
CALSCALE:GREGORIAN
BEGIN:VEVENT
UID:70fb1ec6-5dcd-11f0-b1b1-0a58a9feac02
DTSTAMP:20251216T214612Z
SUMMARY:Grade 1 Field Trip
URL;VALUE=URI:https://www.northhamptonschool.nh.gov/calendar/8402942/grade-
 1-field-trip
DTSTART:20260529T124500Z
DTEND:20260529T153000Z
END:VEVENT
END:VCALENDAR
